BEGIN:VCALENDAR
VERSION:2.0
PRODID:Events Booking
BEGIN:VEVENT
UID:69e752c6340b4
SUMMARY:PMI Austin Chapter Meeting (In-Person) - 4 Ways of Leadership for P
 roject Management and Beyond
DESCRIPTION:
 Gabriela Gutierrez is a speaker and corporate trainer who de
 livers impactful keynotes\, seminars\, and workshops (in English or Spanis
 h) for: • Corporations • Universities • Professional associations (i
 ncluding PMI Chapters) She has delivered presentations to 1\,907+ professi
 onals across North America\, helping leaders strengthen their influence\, 
 communication\, and leadership impact. Based in Houston\, TX\, available w
 orldwide.
DTSTART:20260428T150000Z
DTEND:20260428T173000Z
DTSTAMP:20260401T015909Z
ORGANIZER;CN=PMI Chapter:MAILTO:arbind@darkrhinosecurity.com
END:VEVENT
END:VCALENDAR