BEGIN:VCALENDAR
VERSION:2.0
PRODID:Events Booking
BEGIN:VEVENT
UID:69e75698f19d0
SUMMARY:June 2026 Session: PMIA PMP Exam Prep - Offered by Project Manageme
 nt Academy (PMA)
DESCRIPTION:We\, PMI Austin Chapter\, have purchased PMP Exam Prep course v
 ouchers at a group rate and are pleased to offer these to the project mana
 gement community.
 None of the PMI Austin Chapter's promo codes apply to 
 this offering. You are responsible for the full payment per the terms.
 O
 ur voucher is good at all PROJECT MANAGEMENT ACADEMY (PMA) locations where
  live courses are offered.
DTSTART:20260608T063000Z
DTEND:20260611T160000Z
DTSTAMP:20260401T023851Z
ORGANIZER;CN=PMI Chapter:MAILTO:arbind@darkrhinosecurity.com
END:VEVENT
END:VCALENDAR