BEGIN:VCALENDAR
VERSION:2.0
PRODID:Events Booking
BEGIN:VEVENT
UID:69e756db501ad
SUMMARY:(In Person) Spring PDD 2026: Navigate the Shift: Adaptive Leadershi
 p in the AI Era
DESCRIPTION:PMI Austin 2026 Spring Professional Development Day (PDD)
 21 
 May 2026&nbsp\;•&nbsp\;Location: Austin Public Library - Central Library
  - 710 W Cesar Chavez St. Austin\, Texas
 Make time to grow your skills\,
  expand your network\, and earn PDUs—right here with Austin’s communit
 y of Project Professionals. Four speakers. Fresh ideas. Real-world takeawa
 ys you can use on Monday.
DTSTART:20260521T053000Z
DTEND:20260521T143000Z
DTSTAMP:20260401T022203Z
ORGANIZER;CN=PMI Chapter:MAILTO:arbind@darkrhinosecurity.com
END:VEVENT
END:VCALENDAR